BEGIN:VCALENDAR
VERSION:2.0
PRODID:-//PUPI® - ECPv6.15.14//NONSGML v1.0//EN
CALSCALE:GREGORIAN
METHOD:PUBLISH
X-WR-CALNAME:PUPI®
X-ORIGINAL-URL:https://pupi.com
X-WR-CALDESC:Events for PUPI®
REFRESH-INTERVAL;VALUE=DURATION:PT1H
X-Robots-Tag:noindex
X-PUBLISHED-TTL:PT1H
BEGIN:VTIMEZONE
TZID:America/New_York
BEGIN:DAYLIGHT
TZOFFSETFROM:-0500
TZOFFSETTO:-0400
TZNAME:EDT
DTSTART:20210314T070000
END:DAYLIGHT
BEGIN:STANDARD
TZOFFSETFROM:-0400
TZOFFSETTO:-0500
TZNAME:EST
DTSTART:20211107T060000
END:STANDARD
BEGIN:DAYLIGHT
TZOFFSETFROM:-0500
TZOFFSETTO:-0400
TZNAME:EDT
DTSTART:20220313T070000
END:DAYLIGHT
BEGIN:STANDARD
TZOFFSETFROM:-0400
TZOFFSETTO:-0500
TZNAME:EST
DTSTART:20221106T060000
END:STANDARD
BEGIN:DAYLIGHT
TZOFFSETFROM:-0500
TZOFFSETTO:-0400
TZNAME:EDT
DTSTART:20230312T070000
END:DAYLIGHT
BEGIN:STANDARD
TZOFFSETFROM:-0400
TZOFFSETTO:-0500
TZNAME:EST
DTSTART:20231105T060000
END:STANDARD
BEGIN:DAYLIGHT
TZOFFSETFROM:-0500
TZOFFSETTO:-0400
TZNAME:EDT
DTSTART:20240310T070000
END:DAYLIGHT
BEGIN:STANDARD
TZOFFSETFROM:-0400
TZOFFSETTO:-0500
TZNAME:EST
DTSTART:20241103T060000
END:STANDARD
END:VTIMEZONE
BEGIN:VEVENT
DTSTART;VALUE=DATE:20230928
DTEND;VALUE=DATE:20230929
DTSTAMP:20260419T121254
CREATED:20230202T175220Z
LAST-MODIFIED:20230202T175220Z
UID:3326-1695859200-1695945599@pupi.com
SUMMARY:MREA Engineering & Operations
DESCRIPTION:
URL:https://pupi.com/event/mrea-engineering-operations/
LOCATION:Duluth\, MN
END:VEVENT
BEGIN:VEVENT
DTSTART;VALUE=DATE:20230925
DTEND;VALUE=DATE:20230930
DTSTAMP:20260419T121254
CREATED:20230131T225602Z
LAST-MODIFIED:20230131T225602Z
UID:3314-1695600000-1696031999@pupi.com
SUMMARY:ICUEE (The Utility EXPO)
DESCRIPTION:
URL:https://pupi.com/event/icuee-the-utility-expo-2/
LOCATION:Louisville\, KY
END:VEVENT
BEGIN:VEVENT
DTSTART;VALUE=DATE:20230919
DTEND;VALUE=DATE:20230923
DTSTAMP:20260419T121254
CREATED:20230110T191018Z
LAST-MODIFIED:20230110T191018Z
UID:3279-1695081600-1695427199@pupi.com
SUMMARY:TEC Engineering\, Environmental & Materials Management Conference & Exhibit Show
DESCRIPTION:
URL:https://pupi.com/event/tec-engineering-environmental-materials-management-conference-exhibit-show/
LOCATION:Frisco\, TX
END:VEVENT
BEGIN:VEVENT
DTSTART;VALUE=DATE:20230917
DTEND;VALUE=DATE:20230922
DTSTAMP:20260419T121254
CREATED:20230131T225257Z
LAST-MODIFIED:20230131T225257Z
UID:3309-1694908800-1695340799@pupi.com
SUMMARY:Midwest Transmission Show
DESCRIPTION:
URL:https://pupi.com/event/midwest-transmission-show/
LOCATION:Tulsa\, OK
END:VEVENT
BEGIN:VEVENT
DTSTART;VALUE=DATE:20230911
DTEND;VALUE=DATE:20230914
DTSTAMP:20260419T121254
CREATED:20230117T151622Z
LAST-MODIFIED:20230117T151622Z
UID:3291-1694390400-1694649599@pupi.com
SUMMARY:MECA Ops & Eng
DESCRIPTION:
URL:https://pupi.com/event/meca-ops-eng/
LOCATION:Billings\, MT
END:VEVENT
BEGIN:VEVENT
DTSTART;VALUE=DATE:20230906
DTEND;VALUE=DATE:20230909
DTSTAMP:20260419T121254
CREATED:20230110T190942Z
LAST-MODIFIED:20230110T190942Z
UID:3277-1693958400-1694217599@pupi.com
SUMMARY:TSDOS (Transmission & Substation Design & Operation Symposium)
DESCRIPTION:
URL:https://pupi.com/event/tsdos-transmission-substation-design-operation-symposium/
LOCATION:Frisco\, TX
END:VEVENT
BEGIN:VEVENT
DTSTART;VALUE=DATE:20230830
DTEND;VALUE=DATE:20230831
DTSTAMP:20260419T121254
CREATED:20230202T175139Z
LAST-MODIFIED:20230202T175139Z
UID:3323-1693353600-1693439999@pupi.com
SUMMARY:MREA Line Supervisors Conference
DESCRIPTION:
URL:https://pupi.com/event/mrea-line-supervisors-conference/
LOCATION:Breezy Point\, MN
END:VEVENT
BEGIN:VEVENT
DTSTART;VALUE=DATE:20230824
DTEND;VALUE=DATE:20230826
DTSTAMP:20260419T121254
CREATED:20230517T205642Z
LAST-MODIFIED:20230517T205642Z
UID:3365-1692835200-1693007999@pupi.com
SUMMARY:Indiana Electric Cooperative Lineman Rodeo
DESCRIPTION:
URL:https://pupi.com/event/indiana-electric-cooperative-lineman-rodeo/
LOCATION:Danville\, IN
END:VEVENT
BEGIN:VEVENT
DTSTART;VALUE=DATE:20230816
DTEND;VALUE=DATE:20230819
DTSTAMP:20260419T121254
CREATED:20230404T212536Z
LAST-MODIFIED:20230404T212536Z
UID:3353-1692144000-1692403199@pupi.com
SUMMARY:TVPPA\, Engineering and Operations
DESCRIPTION:
URL:https://pupi.com/event/tvppa-engineering-and-operations/
LOCATION:Chattanooga\, TN
END:VEVENT
BEGIN:VEVENT
DTSTART;VALUE=DATE:20230814
DTEND;VALUE=DATE:20230818
DTSTAMP:20260419T121254
CREATED:20230117T151704Z
LAST-MODIFIED:20230117T151704Z
UID:3294-1691971200-1692316799@pupi.com
SUMMARY:Cody Hotline School Vendor Show
DESCRIPTION:
URL:https://pupi.com/event/cody-hotline-school-vendor-show/
LOCATION:Cody\, WY
END:VEVENT
BEGIN:VEVENT
DTSTART;VALUE=DATE:20230811
DTEND;VALUE=DATE:20230812
DTSTAMP:20260419T121254
CREATED:20230117T151938Z
LAST-MODIFIED:20230117T151938Z
UID:3300-1691712000-1691798399@pupi.com
SUMMARY:Xcel Energy Lineman’s Rodeo
DESCRIPTION:
URL:https://pupi.com/event/xcel-energy-linemans-rodeo/
LOCATION:Denver\, CO
END:VEVENT
BEGIN:VEVENT
DTSTART;VALUE=DATE:20230721
DTEND;VALUE=DATE:20230722
DTSTAMP:20260419T121254
CREATED:20230202T173911Z
LAST-MODIFIED:20230202T173911Z
UID:3320-1689897600-1689983999@pupi.com
SUMMARY:MREA Burn Center Golf Tournament
DESCRIPTION:
URL:https://pupi.com/event/mrea-burn-center-golf-tournament/
LOCATION:Becker\, MN
END:VEVENT
BEGIN:VEVENT
DTSTART;VALUE=DATE:20230629
DTEND;VALUE=DATE:20230701
DTSTAMP:20260419T121254
CREATED:20230404T212432Z
LAST-MODIFIED:20230404T212432Z
UID:3350-1687996800-1688169599@pupi.com
SUMMARY:Southeastern Electrical Exchange (SEE) Annual Conference
DESCRIPTION:
URL:https://pupi.com/event/southeastern-electrical-exchange-see-annual-conference/
LOCATION:Hollywood\, FL
END:VEVENT
BEGIN:VEVENT
DTSTART;VALUE=DATE:20230510
DTEND;VALUE=DATE:20230512
DTSTAMP:20260419T121254
CREATED:20230404T220212Z
LAST-MODIFIED:20230404T220212Z
UID:3362-1683676800-1683849599@pupi.com
SUMMARY:Gresco Annual Expo
DESCRIPTION:
URL:https://pupi.com/event/gresco-annual-expo/
LOCATION:Dothan\, AL
END:VEVENT
BEGIN:VEVENT
DTSTART;VALUE=DATE:20230509
DTEND;VALUE=DATE:20230512
DTSTAMP:20260419T121254
CREATED:20230202T175609Z
LAST-MODIFIED:20230202T175609Z
UID:3333-1683590400-1683849599@pupi.com
SUMMARY:NEPPA Rodeo Conference and Expo
DESCRIPTION:
URL:https://pupi.com/event/neppa-rodeo-conference-and-expo/
LOCATION:Plymouth\, NH
END:VEVENT
BEGIN:VEVENT
DTSTART;TZID=America/New_York:20230429T000000
DTEND;TZID=America/New_York:20230510T235900
DTSTAMP:20260419T121254
CREATED:20230117T151759Z
LAST-MODIFIED:20231219T164816Z
UID:3297-1682726400-1683763140@pupi.com
SUMMARY:Mesa Hotline School Vendor Show
DESCRIPTION:
URL:https://pupi.com/event/mesa-hotline-school-vendor-show/
LOCATION:Grand Junction\, CO
END:VEVENT
BEGIN:VEVENT
DTSTART;VALUE=DATE:20230404
DTEND;VALUE=DATE:20230407
DTSTAMP:20260419T121254
CREATED:20230110T190901Z
LAST-MODIFIED:20230110T190901Z
UID:3275-1680566400-1680825599@pupi.com
SUMMARY:SWEDE (Southwest Electric Distribution Exchange)
DESCRIPTION:
URL:https://pupi.com/event/swede-southwest-electric-distribution-exchange/
LOCATION:Cedar Creek\, TX
END:VEVENT
BEGIN:VEVENT
DTSTART;VALUE=DATE:20230327
DTEND;VALUE=DATE:20230330
DTSTAMP:20260419T121254
CREATED:20230117T151501Z
LAST-MODIFIED:20230117T151501Z
UID:3285-1679875200-1680134399@pupi.com
SUMMARY:CREA Ops & Eng
DESCRIPTION:
URL:https://pupi.com/event/crea-ops-eng/
LOCATION:Pueblo West\, CO
END:VEVENT
BEGIN:VEVENT
DTSTART;VALUE=DATE:20230321
DTEND;VALUE=DATE:20230323
DTSTAMP:20260419T121254
CREATED:20230117T151537Z
LAST-MODIFIED:20230117T151537Z
UID:3288-1679356800-1679529599@pupi.com
SUMMARY:WREA Ops & Eng
DESCRIPTION:
URL:https://pupi.com/event/wrea-ops-eng/
LOCATION:Casper\, WY
END:VEVENT
BEGIN:VEVENT
DTSTART;VALUE=DATE:20230206
DTEND;VALUE=DATE:20230210
DTSTAMP:20260419T121254
CREATED:20230131T225446Z
LAST-MODIFIED:20230131T225446Z
UID:3312-1675641600-1675987199@pupi.com
SUMMARY:Distributech
DESCRIPTION:
URL:https://pupi.com/event/distributech/
LOCATION:San Diego\, CA\, San Diego\, California\, United States
END:VEVENT
BEGIN:VEVENT
DTSTART;VALUE=DATE:20230202
DTEND;VALUE=DATE:20230203
DTSTAMP:20260419T121254
CREATED:20230202T173814Z
LAST-MODIFIED:20230202T173814Z
UID:3317-1675296000-1675382399@pupi.com
SUMMARY:MREA Winter Trade Show
DESCRIPTION:
URL:https://pupi.com/event/mrea-winter-trade-show/
LOCATION:St. Cloud\, MN
END:VEVENT
BEGIN:VEVENT
DTSTART;VALUE=DATE:20221108
DTEND;VALUE=DATE:20221110
DTSTAMP:20260419T121254
CREATED:20221011T185425Z
LAST-MODIFIED:20221011T185425Z
UID:3252-1667865600-1668038399@pupi.com
SUMMARY:MIPSYCON
DESCRIPTION:
URL:https://pupi.com/event/mipsycon/
LOCATION:St. Paul\, MN
END:VEVENT
BEGIN:VEVENT
DTSTART;VALUE=DATE:20221101
DTEND;VALUE=DATE:20221102
DTSTAMP:20260419T121254
CREATED:20221011T185337Z
LAST-MODIFIED:20221011T185337Z
UID:3249-1667260800-1667347199@pupi.com
SUMMARY:Western United Open House
DESCRIPTION:
URL:https://pupi.com/event/western-united-open-house/
LOCATION:St. George\, UT
END:VEVENT
BEGIN:VEVENT
DTSTART;VALUE=DATE:20221031
DTEND;VALUE=DATE:20221105
DTSTAMP:20260419T121254
CREATED:20220928T182719Z
LAST-MODIFIED:20220928T182719Z
UID:3245-1667174400-1667606399@pupi.com
SUMMARY:NWPPA Conference
DESCRIPTION:
URL:https://pupi.com/event/nwppa-conference/
LOCATION:Anchorage\, AK
END:VEVENT
BEGIN:VEVENT
DTSTART;VALUE=DATE:20221027
DTEND;VALUE=DATE:20221028
DTSTAMP:20260419T121254
CREATED:20220928T182549Z
LAST-MODIFIED:20220928T182549Z
UID:3242-1666828800-1666915199@pupi.com
SUMMARY:Iowa REC Conference
DESCRIPTION:
URL:https://pupi.com/event/iowa-rec-conference/
LOCATION:Des Moines\, IA
END:VEVENT
BEGIN:VEVENT
DTSTART;VALUE=DATE:20221006
DTEND;VALUE=DATE:20221007
DTSTAMP:20260419T121254
CREATED:20220928T182508Z
LAST-MODIFIED:20220928T182508Z
UID:3239-1665014400-1665100799@pupi.com
SUMMARY:PREA Conference
DESCRIPTION:
URL:https://pupi.com/event/prea-conference/
LOCATION:State College\, PA
END:VEVENT
BEGIN:VEVENT
DTSTART;VALUE=DATE:20221005
DTEND;VALUE=DATE:20221008
DTSTAMP:20260419T121254
CREATED:20220113T222253Z
LAST-MODIFIED:20220113T222253Z
UID:3155-1664928000-1665187199@pupi.com
SUMMARY:MPUA Annual Conference
DESCRIPTION:
URL:https://pupi.com/event/mpua-annual-conference/
LOCATION:Springfield\, MO
END:VEVENT
BEGIN:VEVENT
DTSTART;VALUE=DATE:20221003
DTEND;VALUE=DATE:20221006
DTSTAMP:20260419T121254
CREATED:20220927T200946Z
LAST-MODIFIED:20220927T200946Z
UID:3237-1664755200-1665014399@pupi.com
SUMMARY:SEI/ASCE Conference
DESCRIPTION:
URL:https://pupi.com/event/sei-asce-conference/
LOCATION:Orlando\, FL\, Orlando\, FL\, United States
END:VEVENT
BEGIN:VEVENT
DTSTART;VALUE=DATE:20220928
DTEND;VALUE=DATE:20221001
DTSTAMP:20260419T121254
CREATED:20220113T222332Z
LAST-MODIFIED:20220113T222332Z
UID:3158-1664323200-1664582399@pupi.com
SUMMARY:KMU Electric Distribution Overhead Workshop
DESCRIPTION:
URL:https://pupi.com/event/kmu-electric-distribution-overhead-workshop/
LOCATION:McPherson\, KS
END:VEVENT
BEGIN:VEVENT
DTSTART;VALUE=DATE:20220920
DTEND;VALUE=DATE:20220924
DTSTAMP:20260419T121254
CREATED:20220113T221949Z
LAST-MODIFIED:20220113T221949Z
UID:3143-1663632000-1663977599@pupi.com
SUMMARY:TEC Engineering Conference
DESCRIPTION:
URL:https://pupi.com/event/tec-engineering-conference-2/
LOCATION:San Marcos\, TX
END:VEVENT
END:VCALENDAR