BEGIN:VCALENDAR
VERSION:2.0
PRODID:-//PUPI® - ECPv6.15.14//NONSGML v1.0//EN
CALSCALE:GREGORIAN
METHOD:PUBLISH
X-ORIGINAL-URL:https://pupi.com
X-WR-CALDESC:Events for PUPI®
REFRESH-INTERVAL;VALUE=DURATION:PT1H
X-Robots-Tag:noindex
X-PUBLISHED-TTL:PT1H
BEGIN:VTIMEZONE
TZID:America/New_York
BEGIN:DAYLIGHT
TZOFFSETFROM:-0500
TZOFFSETTO:-0400
TZNAME:EDT
DTSTART:20230312T070000
END:DAYLIGHT
BEGIN:STANDARD
TZOFFSETFROM:-0400
TZOFFSETTO:-0500
TZNAME:EST
DTSTART:20231105T060000
END:STANDARD
BEGIN:DAYLIGHT
TZOFFSETFROM:-0500
TZOFFSETTO:-0400
TZNAME:EDT
DTSTART:20240310T070000
END:DAYLIGHT
BEGIN:STANDARD
TZOFFSETFROM:-0400
TZOFFSETTO:-0500
TZNAME:EST
DTSTART:20241103T060000
END:STANDARD
BEGIN:DAYLIGHT
TZOFFSETFROM:-0500
TZOFFSETTO:-0400
TZNAME:EDT
DTSTART:20250309T070000
END:DAYLIGHT
BEGIN:STANDARD
TZOFFSETFROM:-0400
TZOFFSETTO:-0500
TZNAME:EST
DTSTART:20251102T060000
END:STANDARD
BEGIN:DAYLIGHT
TZOFFSETFROM:-0500
TZOFFSETTO:-0400
TZNAME:EDT
DTSTART:20260308T070000
END:DAYLIGHT
BEGIN:STANDARD
TZOFFSETFROM:-0400
TZOFFSETTO:-0500
TZNAME:EST
DTSTART:20261101T060000
END:STANDARD
END:VTIMEZONE
BEGIN:VEVENT
DTSTART;VALUE=DATE:20250905
DTEND;VALUE=DATE:20250908
DTSTAMP:20260419T085750
CREATED:20250129T220851Z
LAST-MODIFIED:20250205T215953Z
UID:3860-1757030400-1757289599@pupi.com
SUMMARY:IEC Operations and Engineering Conference
DESCRIPTION:
URL:https://pupi.com/event/iec-operations-and-engineering-conference/
LOCATION:Noblesville\, IN
END:VEVENT
BEGIN:VEVENT
DTSTART;VALUE=DATE:20250903
DTEND;VALUE=DATE:20250906
DTSTAMP:20260419T085750
CREATED:20250129T211733Z
LAST-MODIFIED:20250129T211733Z
UID:3812-1756857600-1757116799@pupi.com
SUMMARY:TSDOS
DESCRIPTION:
URL:https://pupi.com/event/tsdos/
LOCATION:Dallas\, TX\, Dallas\, TX\, United States
END:VEVENT
BEGIN:VEVENT
DTSTART;VALUE=DATE:20250827
DTEND;VALUE=DATE:20250830
DTSTAMP:20260419T085750
CREATED:20250129T211620Z
LAST-MODIFIED:20250129T211620Z
UID:3810-1756252800-1756511999@pupi.com
SUMMARY:TVPPA
DESCRIPTION:
URL:https://pupi.com/event/tvppa/
LOCATION:Chattanooga\, TN
END:VEVENT
BEGIN:VEVENT
DTSTART;VALUE=DATE:20250821
DTEND;VALUE=DATE:20250823
DTSTAMP:20260419T085750
CREATED:20250129T215259Z
LAST-MODIFIED:20250205T215118Z
UID:3853-1755734400-1755907199@pupi.com
SUMMARY:Indiana Electric Cooperatives (IEC) Lineman Rodeo Event
DESCRIPTION:
URL:https://pupi.com/event/indiana-electric-cooperatives-iec-lineman-rodeo-event/
LOCATION:Danville\, IN
END:VEVENT
BEGIN:VEVENT
DTSTART;VALUE=DATE:20250811
DTEND;VALUE=DATE:20250812
DTSTAMP:20260419T085750
CREATED:20250129T213500Z
LAST-MODIFIED:20250129T213500Z
UID:3832-1754870400-1754956799@pupi.com
SUMMARY:Cody Hotline
DESCRIPTION:
URL:https://pupi.com/event/cody-hotline/
LOCATION:Cody\, WY
END:VEVENT
BEGIN:VEVENT
DTSTART;VALUE=DATE:20250723
DTEND;VALUE=DATE:20250726
DTSTAMP:20260419T085750
CREATED:20250129T213415Z
LAST-MODIFIED:20250129T213415Z
UID:3829-1753228800-1753487999@pupi.com
SUMMARY:ICUA Annual Meeting
DESCRIPTION:
URL:https://pupi.com/event/icua-annual-meeting/
LOCATION:Boise\, ID
END:VEVENT
BEGIN:VEVENT
DTSTART;VALUE=DATE:20250723
DTEND;VALUE=DATE:20250725
DTSTAMP:20260419T085750
CREATED:20250129T213311Z
LAST-MODIFIED:20250129T213311Z
UID:3826-1753228800-1753401599@pupi.com
SUMMARY:CAMU - CO Association of Municipal Utilities
DESCRIPTION:
URL:https://pupi.com/event/camu-co-association-of-municipal-utilities/
LOCATION:Snowmass\, CO
END:VEVENT
BEGIN:VEVENT
DTSTART;VALUE=DATE:20250624
DTEND;VALUE=DATE:20250628
DTSTAMP:20260419T085750
CREATED:20250129T211533Z
LAST-MODIFIED:20250129T211533Z
UID:3808-1750723200-1751068799@pupi.com
SUMMARY:SEE
DESCRIPTION:
URL:https://pupi.com/event/see/
LOCATION:Orlando\, FL\, Orlando\, FL\, United States
END:VEVENT
BEGIN:VEVENT
DTSTART;VALUE=DATE:20250607
DTEND;VALUE=DATE:20250608
DTSTAMP:20260419T085750
CREATED:20250129T211427Z
LAST-MODIFIED:20250129T211427Z
UID:3805-1749254400-1749340799@pupi.com
SUMMARY:B.C. Hydro Lineman's Safety Rodeo
DESCRIPTION:
URL:https://pupi.com/event/b-c-hydro-linemans-safety-rodeo/
LOCATION:Nanaimo\, BC\, Canada
END:VEVENT
BEGIN:VEVENT
DTSTART;VALUE=DATE:20250521
DTEND;VALUE=DATE:20250523
DTSTAMP:20260419T085750
CREATED:20250129T214747Z
LAST-MODIFIED:20250129T214747Z
UID:3851-1747785600-1747958399@pupi.com
SUMMARY:Michigan Electric Cooperative Operations Association (MECOA) Conference
DESCRIPTION:
URL:https://pupi.com/event/michigan-electric-cooperative-operations-association-mecoa-conference/
END:VEVENT
BEGIN:VEVENT
DTSTART;VALUE=DATE:20250518
DTEND;VALUE=DATE:20250522
DTSTAMP:20260419T085750
CREATED:20250129T213138Z
LAST-MODIFIED:20250129T213138Z
UID:3823-1747526400-1747871999@pupi.com
SUMMARY:USMA - Utility Supply Management
DESCRIPTION:
URL:https://pupi.com/event/usma-utility-supply-management/
LOCATION:Nashville\, TN\, Nashville\, TN\, United States
END:VEVENT
BEGIN:VEVENT
DTSTART;VALUE=DATE:20250506
DTEND;VALUE=DATE:20250509
DTSTAMP:20260419T085750
CREATED:20250129T214040Z
LAST-MODIFIED:20250129T214040Z
UID:3844-1746489600-1746748799@pupi.com
SUMMARY:NEPPA RodE&O
DESCRIPTION:
URL:https://pupi.com/event/neppa-rodeo/
LOCATION:Hull\, MA
END:VEVENT
BEGIN:VEVENT
DTSTART;VALUE=DATE:20250505
DTEND;VALUE=DATE:20250509
DTSTAMP:20260419T085750
CREATED:20250129T212937Z
LAST-MODIFIED:20250129T212937Z
UID:3821-1746403200-1746748799@pupi.com
SUMMARY:Mesa Hotline
DESCRIPTION:
URL:https://pupi.com/event/mesa-hotline/
LOCATION:Grand Junction\, CO
END:VEVENT
BEGIN:VEVENT
DTSTART;VALUE=DATE:20250430
DTEND;VALUE=DATE:20250502
DTSTAMP:20260419T085750
CREATED:20250129T221001Z
LAST-MODIFIED:20250129T221001Z
UID:3862-1745971200-1746143999@pupi.com
SUMMARY:Gresco Showcase\, AL
DESCRIPTION:
URL:https://pupi.com/event/gresco-showcase-al/
LOCATION:Dothan\, AL
END:VEVENT
BEGIN:VEVENT
DTSTART;VALUE=DATE:20250430
DTEND;VALUE=DATE:20250502
DTSTAMP:20260419T085750
CREATED:20250129T214236Z
LAST-MODIFIED:20250129T214236Z
UID:3846-1745971200-1746143999@pupi.com
SUMMARY:E&O Conference
DESCRIPTION:
URL:https://pupi.com/event/eo-conference/
LOCATION:Virginia Beach\, VA
END:VEVENT
BEGIN:VEVENT
DTSTART;VALUE=DATE:20250415
DTEND;VALUE=DATE:20250418
DTSTAMP:20260419T085750
CREATED:20250129T212456Z
LAST-MODIFIED:20250129T212456Z
UID:3818-1744675200-1744934399@pupi.com
SUMMARY:NWPPA E&O
DESCRIPTION:
URL:https://pupi.com/event/nwppa-eo/
LOCATION:Spokane\, WA\, Spokane\, Washington\, United States
END:VEVENT
BEGIN:VEVENT
DTSTART;VALUE=DATE:20250409
DTEND;VALUE=DATE:20250412
DTSTAMP:20260419T085750
CREATED:20250129T214337Z
LAST-MODIFIED:20250205T215427Z
UID:3849-1744156800-1744415999@pupi.com
SUMMARY:Indiana Electric Cooperatives (IEC) Operations and Engineering Conference
DESCRIPTION:
URL:https://pupi.com/event/indiana-electric-cooperatives-iec-operations-and-engineering-conference/
LOCATION:Noblesville\, IN
END:VEVENT
BEGIN:VEVENT
DTSTART;VALUE=DATE:20250320
DTEND;VALUE=DATE:20250322
DTSTAMP:20260419T085750
CREATED:20250129T211131Z
LAST-MODIFIED:20250129T211131Z
UID:3802-1742428800-1742601599@pupi.com
SUMMARY:Gresco Showcase\, GA
DESCRIPTION:
URL:https://pupi.com/event/gresco-showcase-ga/
LOCATION:Forsyth\, GA
END:VEVENT
BEGIN:VEVENT
DTSTART;VALUE=DATE:20250310
DTEND;VALUE=DATE:20250313
DTSTAMP:20260419T085750
CREATED:20240221T170942Z
LAST-MODIFIED:20240221T170942Z
UID:3445-1741564800-1741823999@pupi.com
SUMMARY:TechAdvantage Expo
DESCRIPTION:
URL:https://pupi.com/event/techadvantage-expo-2/
LOCATION:Atlanta\, GA
END:VEVENT
BEGIN:VEVENT
DTSTART;VALUE=DATE:20250305
DTEND;VALUE=DATE:20250306
DTSTAMP:20260419T085750
CREATED:20250129T210941Z
LAST-MODIFIED:20250129T210941Z
UID:3799-1741132800-1741219199@pupi.com
SUMMARY:Irby Jackson\, TN Showcase
DESCRIPTION:
URL:https://pupi.com/event/irby-jackson-tn-showcase/
LOCATION:Jackson\, TN
END:VEVENT
BEGIN:VEVENT
DTSTART;VALUE=DATE:20250226
DTEND;VALUE=DATE:20250301
DTSTAMP:20260419T085750
CREATED:20250129T210811Z
LAST-MODIFIED:20250129T210811Z
UID:3796-1740528000-1740787199@pupi.com
SUMMARY:SAPPA Annual Conference
DESCRIPTION:
URL:https://pupi.com/event/sappa-annual-conference/
LOCATION:Fairhope\, AL
END:VEVENT
BEGIN:VEVENT
DTSTART;VALUE=DATE:20241118
DTEND;VALUE=DATE:20241122
DTSTAMP:20260419T085750
CREATED:20231115T144236Z
LAST-MODIFIED:20231115T144236Z
UID:3414-1731888000-1732233599@pupi.com
SUMMARY:NWPPA Alaska Electric Utility Conference
DESCRIPTION:
URL:https://pupi.com/event/nwppa-alaska-electric-utility-conference/
LOCATION:Anchorage\, AK
END:VEVENT
BEGIN:VEVENT
DTSTART;VALUE=DATE:20241114
DTEND;VALUE=DATE:20241115
DTSTAMP:20260419T085750
CREATED:20240730T194751Z
LAST-MODIFIED:20241017T160308Z
UID:3516-1731542400-1731628799@pupi.com
SUMMARY:Gresco Fall Fest
DESCRIPTION:
URL:https://pupi.com/event/gresco-fall-fest/
LOCATION:Wildwood\, FL
END:VEVENT
BEGIN:VEVENT
DTSTART;VALUE=DATE:20241008
DTEND;VALUE=DATE:20241010
DTSTAMP:20260419T085750
CREATED:20240610T141739Z
LAST-MODIFIED:20240610T141739Z
UID:3507-1728345600-1728518399@pupi.com
SUMMARY:Gresco TN Showcase
DESCRIPTION:
URL:https://pupi.com/event/gresco-tn-showcase/
LOCATION:Nashville\, TN\, Nashville\, TN\, United States
END:VEVENT
BEGIN:VEVENT
DTSTART;VALUE=DATE:20240924
DTEND;VALUE=DATE:20240928
DTSTAMP:20260419T085750
CREATED:20240903T180119Z
LAST-MODIFIED:20240903T180119Z
UID:3529-1727136000-1727481599@pupi.com
SUMMARY:MUPA | Missouri Public Utility Alliance
DESCRIPTION:
URL:https://pupi.com/event/mupa-missouri-public-utility-alliance/
LOCATION:Saint Charles Convention Center
END:VEVENT
BEGIN:VEVENT
DTSTART;VALUE=DATE:20240916
DTEND;VALUE=DATE:20240920
DTSTAMP:20260419T085750
CREATED:20240806T190037Z
LAST-MODIFIED:20240806T190349Z
UID:3522-1726444800-1726790399@pupi.com
SUMMARY:Midwest Transmission Conference
DESCRIPTION:
URL:https://pupi.com/event/midwest-transmission-conference-2/
LOCATION:Indianapolis\, IN
END:VEVENT
BEGIN:VEVENT
DTSTART;VALUE=DATE:20240904
DTEND;VALUE=DATE:20240907
DTSTAMP:20260419T085750
CREATED:20240610T141701Z
LAST-MODIFIED:20240610T141701Z
UID:3505-1725408000-1725667199@pupi.com
SUMMARY:TSDOS - Trans & Sub Station Symposium
DESCRIPTION:
URL:https://pupi.com/event/tsdos-trans-sub-station-symposium/
LOCATION:Dallas\, TX\, Dallas\, TX\, United States
END:VEVENT
BEGIN:VEVENT
DTSTART;VALUE=DATE:20240821
DTEND;VALUE=DATE:20240824
DTSTAMP:20260419T085750
CREATED:20240610T141559Z
LAST-MODIFIED:20240610T141559Z
UID:3502-1724198400-1724457599@pupi.com
SUMMARY:TVPPA - Utility Eng\, Ops & Tech Conference
DESCRIPTION:
URL:https://pupi.com/event/tvppa-utility-eng-ops-tech-conference/
LOCATION:Huntsville\, AL
END:VEVENT
BEGIN:VEVENT
DTSTART;VALUE=DATE:20240625
DTEND;VALUE=DATE:20240629
DTSTAMP:20260419T085750
CREATED:20240215T221056Z
LAST-MODIFIED:20240215T221056Z
UID:3443-1719273600-1719619199@pupi.com
SUMMARY:Southeastern Electric Exchange
DESCRIPTION:
URL:https://pupi.com/event/southeastern-electric-exchange/
LOCATION:Dallas\, TX\, Dallas\, TX\, United States
END:VEVENT
BEGIN:VEVENT
DTSTART;VALUE=DATE:20240601
DTEND;VALUE=DATE:20240602
DTSTAMP:20260419T085750
CREATED:20231221T145335Z
LAST-MODIFIED:20231221T145335Z
UID:3429-1717200000-1717286399@pupi.com
SUMMARY:B.C. Hydro Lineman’s Rodeo
DESCRIPTION:
URL:https://pupi.com/event/b-c-hydro-linemans-rodeo/
LOCATION:Surrey\, BC
END:VEVENT
END:VCALENDAR